BEGIN:VCALENDAR
VERSION:2.0
PRODID:-//Valley Streams Zen Sangha - ECPv6.15.18//NONSGML v1.0//EN
CALSCALE:GREGORIAN
METHOD:PUBLISH
X-ORIGINAL-URL:https://valleystreamszen.org
X-WR-CALDESC:Events for Valley Streams Zen Sangha
REFRESH-INTERVAL;VALUE=DURATION:PT1H
X-Robots-Tag:noindex
X-PUBLISHED-TTL:PT1H
BEGIN:VTIMEZONE
TZID:America/Los_Angeles
BEGIN:DAYLIGHT
TZOFFSETFROM:-0800
TZOFFSETTO:-0700
TZNAME:PDT
DTSTART:20210314T100000
END:DAYLIGHT
BEGIN:STANDARD
TZOFFSETFROM:-0700
TZOFFSETTO:-0800
TZNAME:PST
DTSTART:20211107T090000
END:STANDARD
BEGIN:DAYLIGHT
TZOFFSETFROM:-0800
TZOFFSETTO:-0700
TZNAME:PDT
DTSTART:20220313T100000
END:DAYLIGHT
BEGIN:STANDARD
TZOFFSETFROM:-0700
TZOFFSETTO:-0800
TZNAME:PST
DTSTART:20221106T090000
END:STANDARD
BEGIN:DAYLIGHT
TZOFFSETFROM:-0800
TZOFFSETTO:-0700
TZNAME:PDT
DTSTART:20230312T100000
END:DAYLIGHT
BEGIN:STANDARD
TZOFFSETFROM:-0700
TZOFFSETTO:-0800
TZNAME:PST
DTSTART:20231105T090000
END:STANDARD
END:VTIMEZONE
BEGIN:VEVENT
DTSTART;TZID=America/Los_Angeles:20220203T060000
DTEND;TZID=America/Los_Angeles:20220203T073000
DTSTAMP:20260424T063509
CREATED:20211122T222250Z
LAST-MODIFIED:20211122T222250Z
UID:10313-1643868000-1643873400@valleystreamszen.org
SUMMARY:Morning Zazen & Service (online)
DESCRIPTION:Please join us for early morning silent meditation each Thursday before Study Group meeting. Contact Rollin Ives at twl4148@gmail.com for Zoom login and program information.\nSchedule:\n5:45-Zoom room opens\n6:00-Zazen\n6:30-Walking Meditation\n6:40-Zazen\n7:10-Service   \n•Download  SFZC Chants in PDF.
URL:https://valleystreamszen.org/event/morning-zazen-service-in-person-and-online-6-2022-01-27-2022-02-03-2/
LOCATION:3111 Wissemann Drive\, Sacramento\, CA\, 95826\, United States
CATEGORIES:All Events,Morning Zazen,Online Event
END:VEVENT
BEGIN:VEVENT
DTSTART;TZID=America/Los_Angeles:20220203T080000
DTEND;TZID=America/Los_Angeles:20220203T090000
DTSTAMP:20260424T063509
CREATED:20211206T231300Z
LAST-MODIFIED:20211206T231300Z
UID:10355-1643875200-1643878800@valleystreamszen.org
SUMMARY:Study Group (online)
DESCRIPTION:The Zen Study Group is temporarily meeting online. The study group is facilitated by Rev. So-On Jim Hare\, with readings from ancient and contemporary Mahayana Buddhist & Soto Zen texts and commentaries. \nTo join the Thursday morning study group\, email the coordinator\, Rollin Ives\, twl4148@gmail.com
URL:https://valleystreamszen.org/event/study-group-in-person-online-2022-02-03-2/
LOCATION:3111 Wissemann Drive\, Sacramento\, CA\, 95826\, United States
CATEGORIES:All Events,Online Event,Study Group
END:VEVENT
BEGIN:VEVENT
DTSTART;TZID=America/Los_Angeles:20220205T090000
DTEND;TZID=America/Los_Angeles:20220205T170000
DTSTAMP:20260424T063509
CREATED:20211212T165513Z
LAST-MODIFIED:20220917T040624Z
UID:10405-1644051600-1644080400@valleystreamszen.org
SUMMARY:"Who Am I?" -  A One-Day Sitting\, led by So'on Jim Hare (online)
DESCRIPTION:Settling the body-mind in stillness and ease\, opening to the ineffable wisdom of Dharma\, the deepest questions may arise. \nThis online retreat will be led by Valley Streams practice leader So’on Jim Hare. The day will include a morning Dharma talk and afternoon discussion. \n\nNOTE: If this will be your first day-long sitting with Valley Streams Zen\, please contact us at info@valleystreamszen.org for an orientation or call us at 916-456-7752.   Register at Eventbrite.com
URL:https://valleystreamszen.org/event/one-day-sitting-benefitting-all-beings-at-the-dharma-center-3/
LOCATION:3111 Wissemann Drive\, Sacramento\, CA\, 95826\, United States
CATEGORIES:All Events,One-Day Sitting,Online Event,Retreat
END:VEVENT
BEGIN:VEVENT
DTSTART;TZID=America/Los_Angeles:20220207T190000
DTEND;TZID=America/Los_Angeles:20220207T210000
DTSTAMP:20260424T063509
CREATED:20211206T234124Z
LAST-MODIFIED:20211206T234124Z
UID:10372-1644260400-1644267600@valleystreamszen.org
SUMMARY:Dharma Talk by Shoku Kathy Early (online)
DESCRIPTION:Guest teacher Shōku Kathy Early came to zen practice in 1994 through classes with Tenshin Reb Anderson at the Yoga Room in Berkeley. She then practiced for several years with Keido Les Kaye at Kannon Do Zen Center in Mountain View\, after which she trained at San Francisco Zen Center for 16 years. She was priest ordained by Tenshin Anderson in 2005. Shoku also spent a year and a half in residence at Toshoji International Training Monastery\, in Okayama\, Japan. \nThis evening’s chant:  Harmony of Difference and Equality \n*Zoom link for this program: https://us02web.zoom.us/j/82008151977
URL:https://valleystreamszen.org/event/monday-night-zazen-and-program-in-person-and-online-2022-02-07-2/
LOCATION:3111 Wissemann Drive\, Sacramento\, CA\, 95826\, United States
CATEGORIES:All Events,Monday Night Meeting,Online Event
END:VEVENT
BEGIN:VEVENT
DTSTART;TZID=America/Los_Angeles:20220210T060000
DTEND;TZID=America/Los_Angeles:20220210T073000
DTSTAMP:20260424T063509
CREATED:20211122T222250Z
LAST-MODIFIED:20211122T222250Z
UID:10314-1644472800-1644478200@valleystreamszen.org
SUMMARY:Morning Zazen & Service (online)
DESCRIPTION:Please join us for early morning silent meditation each Thursday before Study Group meeting. Contact Rollin Ives at twl4148@gmail.com for Zoom login and program information.\nMorning Schedule:\n5:45-Zoom room opens\n6:00-Zazen\n6:30-Walking Meditation\n6:40-Zazen\n7:10-Service   \n•Download  SFZC Chants in PDF.
URL:https://valleystreamszen.org/event/morning-zazen-service-in-person-and-online-6-2022-01-27-2022-02-10-2/
LOCATION:3111 Wissemann Drive\, Sacramento\, CA\, 95826\, United States
CATEGORIES:All Events,Morning Zazen,Online Event
END:VEVENT
BEGIN:VEVENT
DTSTART;TZID=America/Los_Angeles:20220210T080000
DTEND;TZID=America/Los_Angeles:20220210T090000
DTSTAMP:20260424T063509
CREATED:20211206T231300Z
LAST-MODIFIED:20211206T231300Z
UID:10356-1644480000-1644483600@valleystreamszen.org
SUMMARY:Study Group (online)
DESCRIPTION:The Zen Study Group is temporarily meeting online only. The study group is facilitated by Rev. So-On Jim Hare\, with readings from ancient and contemporary Mahayana Buddhist & Soto Zen texts and commentaries. \nTo join the Thursday morning study group\, email the coordinator\, Rollin Ives\, twl4148@gmail.com
URL:https://valleystreamszen.org/event/study-group-in-person-online-2022-02-10-2/
LOCATION:3111 Wissemann Drive\, Sacramento\, CA\, 95826\, United States
CATEGORIES:All Events,Online Event,Study Group
END:VEVENT
BEGIN:VEVENT
DTSTART;TZID=America/Los_Angeles:20220214T180000
DTEND;TZID=America/Los_Angeles:20220214T184000
DTSTAMP:20260424T063509
CREATED:20211209T023837Z
LAST-MODIFIED:20211209T023837Z
UID:10385-1644861600-1644864000@valleystreamszen.org
SUMMARY:Introduction to Zen Meditation (online)
DESCRIPTION:On the second Monday of each month\, we offer a 40-minute introduction to Zen practice.  We focus on the art of sitting meditation\, with emphasis on posture\, breath and mental focus. This is for new meditators and those wishing to refresh their practice of meditative immersion.\nMeets in the Library at the Sacramento Dharma Center.   \nSign up for Weekly Emails to receive current program information.
URL:https://valleystreamszen.org/event/introduction-to-zen-meditation-in-person-2022-02-14-2/
LOCATION:3111 Wissemann Drive\, Sacramento\, CA\, 95826\, United States
CATEGORIES:All Events,Meditation Instruction,Online Event
END:VEVENT
BEGIN:VEVENT
DTSTART;TZID=America/Los_Angeles:20220214T190000
DTEND;TZID=America/Los_Angeles:20220214T210000
DTSTAMP:20260424T063509
CREATED:20211206T234124Z
LAST-MODIFIED:20211206T234124Z
UID:10373-1644865200-1644872400@valleystreamszen.org
SUMMARY:Dharma Talk by Paravrtti Doralee Grindler Katonah (in-person and online)
DESCRIPTION:Paravrtti Doralee Grindler Katonah serves as Ino\, or head of the meditation hall\, and president of our Board of Directors. She studied in the Soto Zen lineage with Sojun Diane Martin in Illinois and Rev. Val Szymanski in California. She was priest ordained in 2019 by Sojun Diane Martin. \n*Zoom link for this program: https://us02web.zoom.us/j/82008151977
URL:https://valleystreamszen.org/event/monday-night-zazen-and-program-in-person-and-online-2022-02-14-2/
LOCATION:3111 Wissemann Drive\, Sacramento\, CA\, 95826\, United States
CATEGORIES:All Events,Monday Night Meeting,Online Event
END:VEVENT
BEGIN:VEVENT
DTSTART;TZID=America/Los_Angeles:20220217T060000
DTEND;TZID=America/Los_Angeles:20220217T073000
DTSTAMP:20260424T063509
CREATED:20220217T220000Z
LAST-MODIFIED:20221029T211621Z
UID:10315-1645077600-1645083000@valleystreamszen.org
SUMMARY:Morning Zazen & Service (Hybrid)
DESCRIPTION:Please join us for early morning silent meditation each Thursday before Study Group meeting. Contact Rollin Ives at twl4148@gmail.com for Zoom login and program information.\nSchedule:\n5:45-Zoom room opens\n6:00-Zazen\n6:30-Walking Meditation\n6:40-Zazen\n7:10-Service   \n•Download  SFZC Chants in PDF. \nTo offer dana to support Valley Streams’ programs and space rental\, click here.
URL:https://valleystreamszen.org/event/morning-zazen-service-in-person-and-online-6-2022-01-27-2022-02-17-2/2022-02-17/
LOCATION:Sacramento Dharma Center\, Sacramento Dharma Center\, 3111 Wissemann Drive\, Sacramento\, CA\, 95826\, United States
CATEGORIES:All Events,Morning Zazen
ORGANIZER;CN="Valley Streams Zen Sangha":MAILTO:info@valleystreamszen.org
END:VEVENT
BEGIN:VEVENT
DTSTART;TZID=America/Los_Angeles:20220217T080000
DTEND;TZID=America/Los_Angeles:20220217T090000
DTSTAMP:20260424T063509
CREATED:20220218T000000Z
LAST-MODIFIED:20230107T233357Z
UID:10357-1645084800-1645088400@valleystreamszen.org
SUMMARY:Study Group (Hybrid)
DESCRIPTION:The Zen Study Group meets at the Dharma Center AND on Zoom. The study group is facilitated by Rev. So’on Jim Hare\, with readings from ancient and contemporary Mahayana Buddhist & Soto Zen texts and commentaries. \nTo join the Thursday morning study group\, email the coordinator\, Rollin Ives\, twl4148@gmail.com
URL:https://valleystreamszen.org/event/study-group-in-person-online-2022-02-17-2/2022-02-17/
LOCATION:Sacramento Dharma Center\, Sacramento Dharma Center\, 3111 Wissemann Drive\, Sacramento\, CA\, 95826\, United States
CATEGORIES:All Events,Hybrid Event,Study Group
ORGANIZER;CN="Valley Streams Zen Sangha":MAILTO:info@valleystreamszen.org
END:VEVENT
BEGIN:VEVENT
DTSTART;TZID=America/Los_Angeles:20220221T190000
DTEND;TZID=America/Los_Angeles:20220221T210000
DTSTAMP:20260424T063509
CREATED:20211206T234124Z
LAST-MODIFIED:20260117T010126Z
UID:10374-1645470000-1645477200@valleystreamszen.org
SUMMARY:Dharma Talk by So'on Jim Hare (in person & online)
DESCRIPTION:So’on Jim Hare  serves as Tanto\, or head of practice. He lived in the San Francisco Zen Center community from 1980 to 1984\, and was lay ordained by Tenshin Reb Anderson in 1985. He served as Head Student at Green Gulch Farm during the spring 2002 practice period. He was priest ordained by Rev. Myo Lahey in 2016. \n\n*Zoom link for this program: https://us02web.zoom.us/j/82008151977
URL:https://valleystreamszen.org/event/monday-night-zazen-and-program-in-person-and-online-2022-02-21-2/
LOCATION:3111 Wissemann Drive\, Sacramento\, CA\, 95826\, United States
CATEGORIES:All Events,Monday Night Meeting,Online Event
END:VEVENT
BEGIN:VEVENT
DTSTART;TZID=America/Los_Angeles:20220228T190000
DTEND;TZID=America/Los_Angeles:20220228T210000
DTSTAMP:20260424T063509
CREATED:20211206T234124Z
LAST-MODIFIED:20211206T234124Z
UID:10375-1646074800-1646082000@valleystreamszen.org
SUMMARY:Retreat Night (in-person and online)
DESCRIPTION:On Retreat Night we offer an opportunity to settle into your meditation practice with two or three 25-minute periods of zazen\, interspersed with walking meditation (called kinhin). Turning the light inward we explore the causes of suffering and what can end it. This invitation is extended to everyone. \n*Zoom link  https://us02web.zoom.us/j/82008151977 \n\n 
URL:https://valleystreamszen.org/event/monday-night-zazen-and-program-in-person-and-online-2022-02-28-2/
LOCATION:3111 Wissemann Drive\, Sacramento\, CA\, 95826\, United States
CATEGORIES:All Events,Monday Night Meeting,Online Event
END:VEVENT
END:VCALENDAR