BEGIN:VCALENDAR
VERSION:2.0
PRODID:-//Valley Streams Zen Sangha - ECPv6.15.18//NONSGML v1.0//EN
CALSCALE:GREGORIAN
METHOD:PUBLISH
X-WR-CALNAME:Valley Streams Zen Sangha
X-ORIGINAL-URL:https://valleystreamszen.org
X-WR-CALDESC:Events for Valley Streams Zen Sangha
REFRESH-INTERVAL;VALUE=DURATION:PT1H
X-Robots-Tag:noindex
X-PUBLISHED-TTL:PT1H
BEGIN:VTIMEZONE
TZID:America/Los_Angeles
BEGIN:DAYLIGHT
TZOFFSETFROM:-0800
TZOFFSETTO:-0700
TZNAME:PDT
DTSTART:20210314T100000
END:DAYLIGHT
BEGIN:STANDARD
TZOFFSETFROM:-0700
TZOFFSETTO:-0800
TZNAME:PST
DTSTART:20211107T090000
END:STANDARD
BEGIN:DAYLIGHT
TZOFFSETFROM:-0800
TZOFFSETTO:-0700
TZNAME:PDT
DTSTART:20220313T100000
END:DAYLIGHT
BEGIN:STANDARD
TZOFFSETFROM:-0700
TZOFFSETTO:-0800
TZNAME:PST
DTSTART:20221106T090000
END:STANDARD
BEGIN:DAYLIGHT
TZOFFSETFROM:-0800
TZOFFSETTO:-0700
TZNAME:PDT
DTSTART:20230312T100000
END:DAYLIGHT
BEGIN:STANDARD
TZOFFSETFROM:-0700
TZOFFSETTO:-0800
TZNAME:PST
DTSTART:20231105T090000
END:STANDARD
END:VTIMEZONE
BEGIN:VEVENT
DTSTART;TZID=America/Los_Angeles:20220305T083000
DTEND;TZID=America/Los_Angeles:20220305T123000
DTSTAMP:20260424T044337
CREATED:20211212T163220Z
LAST-MODIFIED:20220917T040840Z
UID:10383-1646469000-1646483400@valleystreamszen.org
SUMMARY:Stilling the Waves of the Mind: A Half-Day Sitting led by So'on Jim Hare
DESCRIPTION:“It appears as if something comes from outside your mind\, but actually it is only the waves of your mind”  ~Shunryu Suzuki\, Roshi\n\n\n\n\n\n\n\n\nThis sitting will include a schedule of sitting and walking meditation and a short Dharma talk. \nPlease be fully vaccinated against COVID-19 to attend this sitting in person. We will have a social lunch following the sitting. Please bring your own lunch.. \nRegister on Eventbrite.com
URL:https://valleystreamszen.org/event/half-day-sitting-led-by-so-on-jim-hare-4-3/
LOCATION:3111 Wissemann Drive\, Sacramento\, CA\, 95826\, United States
CATEGORIES:All Events,Half-Day Sitting,Retreat
END:VEVENT
BEGIN:VEVENT
DTSTART;TZID=America/Los_Angeles:20220307T190000
DTEND;TZID=America/Los_Angeles:20220307T210000
DTSTAMP:20260424T044337
CREATED:20211212T163629Z
LAST-MODIFIED:20211212T163629Z
UID:10384-1646679600-1646686800@valleystreamszen.org
SUMMARY:Dharma Talk by Rev. Myo Lahey (in-person and online)
DESCRIPTION:Rev. Myo Lahey is Abbot at Hartford Street Zen Center in San Francisco and our guiding teacher. He has previously served as Practice Leader at Tassajara Zen Mountain Center. He is a Dharma heir of Tenshin Reb Anderson. Tonight’s talk will be online from Hartford Street Zen Center. \n  \n*Zoom link for this program: https://us02web.zoom.us/j/82008151977
URL:https://valleystreamszen.org/event/dharma-talk-by-rev-myo-lahey-in-person-and-online-2-2/
LOCATION:3111 Wissemann Drive\, Sacramento\, CA\, 95826\, United States
CATEGORIES:All Events,Monday Night Meeting,Online Event
END:VEVENT
BEGIN:VEVENT
DTSTART;TZID=America/Los_Angeles:20220314T180000
DTEND;TZID=America/Los_Angeles:20220314T184000
DTSTAMP:20260424T044337
CREATED:20220312T192200Z
LAST-MODIFIED:20220312T192231Z
UID:10386-1647280800-1647283200@valleystreamszen.org
SUMMARY:Introduction to Zen Meditation (in-person)
DESCRIPTION:On the second Monday of each month\, we offer a 40-minute introduction to Zen practice.  We focus on the art of sitting meditation\, with emphasis on posture\, breath and mental focus. This is for new meditators and those wishing to refresh their practice of meditative immersion.\n• Meets in the Library at the Sacramento Dharma Center. \n Sign up for Weekly Emails to receive current program information.
URL:https://valleystreamszen.org/event/introduction-to-zen-meditation-in-person-2022-03-14-2/
LOCATION:Sacramento Dharma Center\, Sacramento Dharma Center\, 3111 Wissemann Drive\, Sacramento\, CA\, 95826\, United States
CATEGORIES:All Events,Meditation Instruction
END:VEVENT
BEGIN:VEVENT
DTSTART;TZID=America/Los_Angeles:20220314T190000
DTEND;TZID=America/Los_Angeles:20220314T210000
DTSTAMP:20260424T044337
CREATED:20211212T164513Z
LAST-MODIFIED:20220917T040710Z
UID:10389-1647284400-1647291600@valleystreamszen.org
SUMMARY:Dharma Talk by So'on Jim Hare (in-person and online)
DESCRIPTION:So’on Jim Hare  serves as Tanto\, or head of practice. He lived in the San Francisco Zen Center community from 1980 to 1984\, and was lay ordained by Tenshin Reb Anderson in 1985. He served as Head Student at Green Gulch Farm during the spring 2002 practice period. He was priest ordained by Rev. Myo Lahey in 2016. \n\nWe will discuss the topic: “A Buddhist response to war.” War is an assault on all that we hold dear as people of the Way.  How do we meet the feelings of helplessness and hopeless that arise when we see great suffering willfully inflicted on a peaceful nation?  And how do we respond? \nDana collected this evening will be sent to the United Nations Human Rights Commission to aid their work with refugees. \n*Zoom link for this program: https://us02web.zoom.us/j/82008151977
URL:https://valleystreamszen.org/event/monday-night-program-in-person-and-online-2/2022-03-14/
LOCATION:3111 Wissemann Drive\, Sacramento\, CA\, 95826\, United States
CATEGORIES:All Events,Monday Night Meeting,Online Event
END:VEVENT
BEGIN:VEVENT
DTSTART;TZID=America/Los_Angeles:20220321T190000
DTEND;TZID=America/Los_Angeles:20220321T210000
DTSTAMP:20260424T044337
CREATED:20220322T090000Z
LAST-MODIFIED:20220917T040812Z
UID:10390-1647889200-1647896400@valleystreamszen.org
SUMMARY:Dharma Talk by So'on Jim Hare (in-person and online)
DESCRIPTION:This will be will be a short Dharma talk and small group discussion exploring Suzuki roshi’s saying:\n“even if the sun were to rise from the west\, the Bodhisattva only has one way.” \nSo On Jim Hare  serves as Tanto\, or head of practice. He lived in the San Francisco Zen Center community from 1980 to 1984\, and was lay ordained by Tenshin Reb Anderson in 1985. He served as Head Student at Green Gulch Farm during the spring 2002 practice period. He was priest ordained by Rev. Myo Lahey in 2016. \n  \n\nThis evening’s chant: Song of the Jewel Mirror Samadhi \n*Zoom link for this program: https://us02web.zoom.us/j/82008151977
URL:https://valleystreamszen.org/event/monday-night-program-in-person-and-online-2022-03-21-2/
LOCATION:3111 Wissemann Drive\, Sacramento\, CA\, 95826\, United States
CATEGORIES:All Events,Monday Night Meeting,Online Event
END:VEVENT
BEGIN:VEVENT
DTSTART;TZID=America/Los_Angeles:20220328T190000
DTEND;TZID=America/Los_Angeles:20220328T210000
DTSTAMP:20260424T044337
CREATED:20211212T164513Z
LAST-MODIFIED:20211212T164513Z
UID:10400-1648494000-1648501200@valleystreamszen.org
SUMMARY:Dharma talk by Rev. Kokyo Henkel (online)
DESCRIPTION:Rev. Kokyo Henkel has been practicing Zen since 1990 in residence at Tassajara Zen Mountain Center (most recently as Head of Practice)\, Green Gulch Farm Zen Center\, No Abode Hermitage in Mill Valley\, and Bukkokuji Monastery in Japan. \nHe was ordained as a priest in 1994 by Tenshin Anderson Roshi and received Dharma Transmission from him in 2010. Kokyo is interested in exploring how the original teachings of Buddha-Dharma from ancient India\, China\, and Japan can still be very much alive and useful in present-day America to bring peace and openness to the minds of this troubled world. \nKokyo has also been practicing with the Tibetan Dzogchen (“Great Completeness”) Teacher Tsoknyi Rinpoche since 2003\, in California\, Colorado\, and Kathmandu. \n____________________________________________________________________ \n*Zoom link for this program: https://us02web.zoom.us/j/82008151977
URL:https://valleystreamszen.org/event/monday-night-program-in-person-and-online-2022-03-28-2/
LOCATION:3111 Wissemann Drive\, Sacramento\, CA\, 95826\, United States
CATEGORIES:All Events,Monday Night Meeting,Online Event
END:VEVENT
END:VCALENDAR