BEGIN:VCALENDAR
VERSION:2.0
PRODID:-//Valley Streams Zen Sangha - ECPv6.15.18//NONSGML v1.0//EN
CALSCALE:GREGORIAN
METHOD:PUBLISH
X-ORIGINAL-URL:https://valleystreamszen.org
X-WR-CALDESC:Events for Valley Streams Zen Sangha
REFRESH-INTERVAL;VALUE=DURATION:PT1H
X-Robots-Tag:noindex
X-PUBLISHED-TTL:PT1H
BEGIN:VTIMEZONE
TZID:America/Los_Angeles
BEGIN:DAYLIGHT
TZOFFSETFROM:-0800
TZOFFSETTO:-0700
TZNAME:PDT
DTSTART:20210314T100000
END:DAYLIGHT
BEGIN:STANDARD
TZOFFSETFROM:-0700
TZOFFSETTO:-0800
TZNAME:PST
DTSTART:20211107T090000
END:STANDARD
BEGIN:DAYLIGHT
TZOFFSETFROM:-0800
TZOFFSETTO:-0700
TZNAME:PDT
DTSTART:20220313T100000
END:DAYLIGHT
BEGIN:STANDARD
TZOFFSETFROM:-0700
TZOFFSETTO:-0800
TZNAME:PST
DTSTART:20221106T090000
END:STANDARD
BEGIN:DAYLIGHT
TZOFFSETFROM:-0800
TZOFFSETTO:-0700
TZNAME:PDT
DTSTART:20230312T100000
END:DAYLIGHT
BEGIN:STANDARD
TZOFFSETFROM:-0700
TZOFFSETTO:-0800
TZNAME:PST
DTSTART:20231105T090000
END:STANDARD
END:VTIMEZONE
BEGIN:VEVENT
DTSTART;TZID=America/Los_Angeles:20220402T090000
DTEND;TZID=America/Los_Angeles:20220402T170000
DTSTAMP:20260424T010207
CREATED:20220402T230000Z
LAST-MODIFIED:20220329T161251Z
UID:10406-1648890000-1648918800@valleystreamszen.org
SUMMARY:Sitting in the Midst of Self-fulfilling Samadhi: One-Day Sitting (in person)
DESCRIPTION:Join with others in person for a day of sitting and walking meditation and Dharma talk\, making the effort that refreshes both body and mind\, becoming a shining golden buddha! The sitting will be led by So On Jim Hare. \nPlease bring a lunch to support your efforts on the cushion\, bench or chair.  For questions\, please email Jim Hare at info@valleystreamszen.com. \nREGISTER on EVENTBRITE.com
URL:https://valleystreamszen.org/event/one-day-sitting-benefitting-all-beings-at-the-dharma-center-2-2/
LOCATION:3111 Wissemann Drive\, Sacramento\, CA\, 95826\, United States
CATEGORIES:All Events,One-Day Sitting,Retreat
END:VEVENT
BEGIN:VEVENT
DTSTART;TZID=America/Los_Angeles:20220404T190000
DTEND;TZID=America/Los_Angeles:20220404T210000
DTSTAMP:20260424T010207
CREATED:20220405T090000Z
LAST-MODIFIED:20220401T033114Z
UID:10401-1649098800-1649106000@valleystreamszen.org
SUMMARY:Dharma Talk & Reflection by Paravrtti Doralee Grindler Katonah (in person & online)
DESCRIPTION:In the Eihei Koroku\, Dogen says\, “When you build a pond naturally the moon will come.”  \nCome to our Practice Circle on The Precious Jewel of Sangha Life. \n\nParavrtti Doralee Grindler Katonah serves as Ino\, or head of the meditation hall. She studied in the Soto Zen lineage with Sojun Diane Martin in Illinois and Rev. Val Szymanski in California. She was priest ordained in 2019 by Sojun Diane Martin. \n*Zoom link for this program: https://us02web.zoom.us/j/82008151977 \n\n 
URL:https://valleystreamszen.org/event/monday-night-program-in-person-and-online-2022-04-04-2/
LOCATION:Sacramento Dharma Center\, Sacramento Dharma Center\, 3111 Wissemann Drive\, Sacramento\, CA\, 95826\, United States
CATEGORIES:All Events,Monday Night Meeting,Online Event
ORGANIZER;CN="Valley Streams Zen Sangha":MAILTO:info@valleystreamszen.org
END:VEVENT
BEGIN:VEVENT
DTSTART;TZID=America/Los_Angeles:20220411T180000
DTEND;TZID=America/Los_Angeles:20220411T184000
DTSTAMP:20260424T010207
CREATED:20220412T080000Z
LAST-MODIFIED:20221111T192127Z
UID:10387-1649700000-1649702400@valleystreamszen.org
SUMMARY:Introduction to Zen Meditation (In-person)
DESCRIPTION:On the second Monday of each month\, we offer a 40-minute introduction to Zen practice.  We focus on the art of sitting meditation\, with emphasis on posture\, breath and mental focus. This is for new meditators and those wishing to refresh their practice of meditative immersion.\n* Meets in the Library at the Sacramento Dharma Center.   \nSign up for Weekly Emails to receive current program information.
URL:https://valleystreamszen.org/event/introduction-to-zen-meditation-in-person-2022-03-14-2022-04-11/2022-04-11/
LOCATION:Sacramento Dharma Center\, Sacramento Dharma Center\, 3111 Wissemann Drive\, Sacramento\, CA\, 95826\, United States
CATEGORIES:All Events,In-Person Event,Meditation Instruction
ORGANIZER;CN="Valley Streams Zen Sangha":MAILTO:info@valleystreamszen.org
END:VEVENT
BEGIN:VEVENT
DTSTART;TZID=America/Los_Angeles:20220411T190000
DTEND;TZID=America/Los_Angeles:20220411T210000
DTSTAMP:20260424T010207
CREATED:20211212T164513Z
LAST-MODIFIED:20211212T164513Z
UID:10402-1649703600-1649710800@valleystreamszen.org
SUMMARY:Dharma Talk by Hoka Soko Chris Fortin (in-person and online)
DESCRIPTION:This evening we welcome guest teacher\, Chris Fortin\, a Soto Zen teacher who began practicing Buddhism in 1976 while living at the San Francisco Zen Center. After many years of practice she received Dharma Transmission from Zoketsu Norman Fischer of Everyday Zen\, in the lineage of Shunryu Suzuki Roshi. \n\nChris founded Dharma Heart Zen to share the path of wholehearted living and awakening with others. She leads the Dharma Heart Zen Sangha in Cotati and the Woman’s Lotus Sangha in Sebastopol. She is a senior teacher in the Everyday Zen community and leads workshops at SFZC. She is guiding teacher of Sky Island Zen in Tucson\, Arizona and leads retreats in ancient Aravaipa Canyon.  She was the co- founder of Veterans PATH (formerly Honoring the Path of the Warrior)\, offering retreats and meditation and mindfulness practices for returning veterans. She offers Jizo Bodhisattva trainings and ceremonies for those who have lost children\, loved ones and those who are grieving the pain and suffering of the world.  Chris is actively engaged in the dharma of social and racial justice and the climate crisis. She co-leads a monthly Racial Literacy and Dharma Group and serves on the Soto Zen Buddhist Association’s Diversity Equity\, Inclusion\, & Accessibility (DEIA) Committee. \n\n*Zoom link for this program: https://us02web.zoom.us/j/82008151977
URL:https://valleystreamszen.org/event/monday-night-program-in-person-and-online-2022-04-11-2/
LOCATION:3111 Wissemann Drive\, Sacramento\, CA\, 95826\, United States
CATEGORIES:All Events,Monday Night Meeting
END:VEVENT
BEGIN:VEVENT
DTSTART;TZID=America/Los_Angeles:20220416T103000
DTEND;TZID=America/Los_Angeles:20220416T140000
DTSTAMP:20260424T010207
CREATED:20220417T003000Z
LAST-MODIFIED:20220412T230712Z
UID:11327-1650105000-1650117600@valleystreamszen.org
SUMMARY:POSTPONED to May 1 - Buddha's Birthday Celebration
DESCRIPTION:This event has been moved to Sunday\, May 1 at the Dharma Center. 
URL:https://valleystreamszen.org/event/postponed-to-may-1-buddhas-birthday-celebration/
LOCATION:Sacramento Dharma Center\, Sacramento Dharma Center\, 3111 Wissemann Drive\, Sacramento\, CA\, 95826\, United States
CATEGORIES:All Events,CLOSED,Special Event
ORGANIZER;CN="Valley Streams Zen Sangha":MAILTO:info@valleystreamszen.org
END:VEVENT
BEGIN:VEVENT
DTSTART;TZID=America/Los_Angeles:20220418T190000
DTEND;TZID=America/Los_Angeles:20220418T210000
DTSTAMP:20260424T010207
CREATED:20211212T171957Z
LAST-MODIFIED:20211212T171957Z
UID:10407-1650308400-1650315600@valleystreamszen.org
SUMMARY:Full Moon Ceremony (in-person and online)
DESCRIPTION:This ceremony is an affirmation of the vow to live for the benefit of all beings. In the Zen tradition we associate the full moon with the ideal of awakening. All are welcome. \n\nOur Monday night programs begin with zazen (meditation) followed by a devotional service and dharma talk\, group discussion\, practice circle or retreat night. There are no membership requirements to participate. We invite donations to support the room rental\, visits by teachers\, and other sangha activities. Valley Streams Zen Sangha is dedicated to the study of Buddha’s teaching and the practice of meditation. We invite newcomers and experienced Zen students to join us. \n*Zoom link for this program: https://us02web.zoom.us/j/82008151977
URL:https://valleystreamszen.org/event/full-moon-ceremony-in-person-and-online-2/
LOCATION:3111 Wissemann Drive\, Sacramento\, CA\, 95826\, United States
CATEGORIES:All Events,Full Moon Ceremony,Online Event
END:VEVENT
BEGIN:VEVENT
DTSTART;TZID=America/Los_Angeles:20220425T190000
DTEND;TZID=America/Los_Angeles:20220425T210000
DTSTAMP:20260424T010207
CREATED:20220426T090000Z
LAST-MODIFIED:20220401T041534Z
UID:10403-1650913200-1650920400@valleystreamszen.org
SUMMARY:Dharma Talk by Diane Wilde (in-person and online)
DESCRIPTION:DIANE WILDE has studied meditation in various traditions since 1990. In 2001 she was a founding member of Sacramento Insight Meditation. She founded Buddhist Pathways Prison Project (aka Boundless Freedom Project) in 2010 and has been a prison chaplain for 18 years. She is a graduate of Sati Center’s Buddhist Chaplaincy program and graduated from Spirit Rock Meditation Center’s Community Dharma Leadership Training Program. She is a board member of Sati Center for Buddhist Studies at the Sacramento Dharma Center. In 2015 she was lay-ordained as a Buddhist minister by Gil Fronsdal. \n*Zoom link  https://us02web.zoom.us/j/82008151977
URL:https://valleystreamszen.org/event/monday-night-program-in-person-and-online-2022-04-25-2/
LOCATION:Sacramento Dharma Center\, Sacramento Dharma Center\, 3111 Wissemann Drive\, Sacramento\, CA\, 95826\, United States
CATEGORIES:All Events,Monday Night Meeting,Online Event
ORGANIZER;CN="Valley Streams Zen Sangha":MAILTO:info@valleystreamszen.org
END:VEVENT
END:VCALENDAR