BEGIN:VCALENDAR
VERSION:2.0
PRODID:-//Valley Streams Zen Sangha - ECPv6.15.18//NONSGML v1.0//EN
CALSCALE:GREGORIAN
METHOD:PUBLISH
X-ORIGINAL-URL:https://valleystreamszen.org
X-WR-CALDESC:Events for Valley Streams Zen Sangha
REFRESH-INTERVAL;VALUE=DURATION:PT1H
X-Robots-Tag:noindex
X-PUBLISHED-TTL:PT1H
BEGIN:VTIMEZONE
TZID:America/Los_Angeles
BEGIN:DAYLIGHT
TZOFFSETFROM:-0800
TZOFFSETTO:-0700
TZNAME:PDT
DTSTART:20210314T100000
END:DAYLIGHT
BEGIN:STANDARD
TZOFFSETFROM:-0700
TZOFFSETTO:-0800
TZNAME:PST
DTSTART:20211107T090000
END:STANDARD
BEGIN:DAYLIGHT
TZOFFSETFROM:-0800
TZOFFSETTO:-0700
TZNAME:PDT
DTSTART:20220313T100000
END:DAYLIGHT
BEGIN:STANDARD
TZOFFSETFROM:-0700
TZOFFSETTO:-0800
TZNAME:PST
DTSTART:20221106T090000
END:STANDARD
BEGIN:DAYLIGHT
TZOFFSETFROM:-0800
TZOFFSETTO:-0700
TZNAME:PDT
DTSTART:20230312T100000
END:DAYLIGHT
BEGIN:STANDARD
TZOFFSETFROM:-0700
TZOFFSETTO:-0800
TZNAME:PST
DTSTART:20231105T090000
END:STANDARD
END:VTIMEZONE
BEGIN:VEVENT
DTSTART;TZID=America/Los_Angeles:20220604T130000
DTEND;TZID=America/Los_Angeles:20220604T170000
DTSTAMP:20260423T231117
CREATED:20220605T030000Z
LAST-MODIFIED:20220517T224140Z
UID:11347-1654347600-1654362000@valleystreamszen.org
SUMMARY:Dharma Art Day: Zazen and SoulCollage® with Alexa Singer-Telles (in person)
DESCRIPTION:Preparing a Sincere Offering to the Three Treasures: A Creative Exploration of Dogen’s Instructions for the Cook\n  \nPlease join us for a day of mindful practice to explore Dogen’s teachings for cooking your life in a creative and experiential way. It is said that “bodhicitta is born of the smallest offering made with sincerity.”  In our time together we will practice cultivating the mind of love by combining the ingredients of zazen\, SoulCollage®\, guided writing practice\, collaboration\, and ritual.  Please bring your open heart\, imagination and curiosity to see what unfolds in this transformational process.  Our offerings will be honored in a closing ceremony. \nThe SoulCollage® process was developed by Seena B. Frost\, M.Div. as a mixture of joyful art play and as a healing guide using the potentiality of images and symbols to access our own innate wisdom through journaling and sharing. \nAlexa Singer-Telles\, True Silent Action\, is a dharmacharya (teacher) in the Plum Village tradition\, receiving Lamp Transmission from Thich Nhat Hanh in 2014.  She is the guiding teacher for several sanghas in California\, Washington\, Oregon and Calgary.  She co-founded the River Oak Sangha in Redding\, and led it for 30 years. She is a practicing psychotherapist\, certified facilitator of SoulCollage® groups\, and women’s spiritual ceremonialist. She recently founded the MotherRoot Sangha.  Inspired by studying our Buddhist women ancestors\, she aspires to be an old woman of no rank. \nYou don’t need artistic skill to attend this event\, but you do need to be vaccinated against Covid-19. Mask wearing is optional and will be supported. \nRegister on Eventbrite.com             Event Flyer
URL:https://valleystreamszen.org/event/soul-collage-with-alexa-singer-telles-in-person/
LOCATION:Sacramento Dharma Center\, Sacramento Dharma Center\, 3111 Wissemann Drive\, Sacramento\, CA\, 95826\, United States
CATEGORIES:All Events,Half-Day Sitting,Retreat,Special Event
ORGANIZER;CN="Valley Streams Zen Sangha":MAILTO:info@valleystreamszen.org
END:VEVENT
BEGIN:VEVENT
DTSTART;TZID=America/Los_Angeles:20220606T190000
DTEND;TZID=America/Los_Angeles:20220606T210000
DTSTAMP:20260423T231117
CREATED:20220607T090000Z
LAST-MODIFIED:20220429T171703Z
UID:11142-1654542000-1654549200@valleystreamszen.org
SUMMARY:Dharma Talk by Rev. Mary Mocine (in person & online)
DESCRIPTION:Joining us this evening is Reverend Mary Mocine\, abbess of Clear Water Zendo in Vallejo. She was trained at San Francisco and Berkeley Zen Centers\, and Tassajara Zen Monastery. She was ordained in 1994 by Sojun Mel Weitsman\, former Abbot of San Francisco Zen Center and continuing Abbot of the Berkeley Zen Center. Reverend Mocine has also trained with Abbess Zenkei Blanche Hartman and former Abbots Zoketsu Norman Fischer and Tenshin Reb Anderson of the San Francisco Zen Center. She received dharma transmission from Sojun Mel Weitsman in May 2005. \n*Zoom link for this program: https://us02web.zoom.us/j/82008151977
URL:https://valleystreamszen.org/event/monday-night-meditation-and-program-2022-06-06/
LOCATION:Sacramento Dharma Center\, Sacramento Dharma Center\, 3111 Wissemann Drive\, Sacramento\, CA\, 95826\, United States
CATEGORIES:All Events,Monday Night Meeting,Online Event
ORGANIZER;CN="Valley Streams Zen Sangha":MAILTO:info@valleystreamszen.org
END:VEVENT
BEGIN:VEVENT
DTSTART;TZID=America/Los_Angeles:20220613T190000
DTEND;TZID=America/Los_Angeles:20220613T210000
DTSTAMP:20260423T231117
CREATED:20220614T090000Z
LAST-MODIFIED:20220615T204643Z
UID:11143-1655146800-1655154000@valleystreamszen.org
SUMMARY:Dharma Talk by Rev. Eijun Linda Cutts (Hybrid)
DESCRIPTION:The Dharma Talk will be offered via Zoom by Rev. Eijun Linda Cutts\, Senior Dharma Teacher at San Francisco Zen Center.  Priest ordained in 1975\, she has lived at Tassajara\, SFZC City Center\, and at Green Gulch Farm\, where she has resided since 1993. She received Dharma transmission from Tenshin Reb Anderson in 1996\, and  served as Abbess from 2000-2019 (with a hiatus from 2007-2010).  As Senior Dharma Teacher\, she continues to teach\, leading practice periods and retreats at Tassajara\, Green Gulch\, and elsewhere.  She will lead the January 2023 Practice Period at Tassajara. \n*Zoom link for this program: https://us02web.zoom.us/j/82008151977
URL:https://valleystreamszen.org/event/monday-night-meditation-and-program-2022-06-13/
LOCATION:Sacramento Dharma Center\, Sacramento Dharma Center\, 3111 Wissemann Drive\, Sacramento\, CA\, 95826\, United States
CATEGORIES:All Events,Hybrid Event,Monday Night Meeting
ORGANIZER;CN="Valley Streams Zen Sangha":MAILTO:info@valleystreamszen.org
END:VEVENT
BEGIN:VEVENT
DTSTART;TZID=America/Los_Angeles:20220616T080000
DTEND;TZID=America/Los_Angeles:20220616T090000
DTSTAMP:20260423T231117
CREATED:20220616T220000Z
LAST-MODIFIED:20260117T005058Z
UID:11119-1655366400-1655370000@valleystreamszen.org
SUMMARY:Study Group - (Canceled-on hiatus)
DESCRIPTION:The Study Group is taking a break before moving on to a more contemporary text— Waking Up To What You Do: A Zen Practice For Meeting Every Situation With Intelligence and Compassion by Diane Rizzetto.  \nMeetings will resume on Thursday\, July 14th.   \n\nThe Zen Study Group is now meeting at the Dharma Center AND online. The study group is facilitated by Rev. So’on Jim Hare\, with readings from ancient and contemporary Mahayana Buddhist & Soto Zen texts and commentaries. \nTo join the Thursday morning study group\, email the coordinator\, Rollin Ives\, twl4148@gmail.com
URL:https://valleystreamszen.org/event/study-group-in-person-online-2022-02-17-2-2022-06-16/2022-06-16/
LOCATION:Sacramento Dharma Center\, Sacramento Dharma Center\, 3111 Wissemann Drive\, Sacramento\, CA\, 95826\, United States
CATEGORIES:All Events,Hybrid Event,Study Group
ORGANIZER;CN="Valley Streams Zen Sangha":MAILTO:info@valleystreamszen.org
END:VEVENT
BEGIN:VEVENT
DTSTART;TZID=America/Los_Angeles:20220620T190000
DTEND;TZID=America/Los_Angeles:20220620T210000
DTSTAMP:20260423T231117
CREATED:20220621T090000Z
LAST-MODIFIED:20220619T122452Z
UID:11144-1655751600-1655758800@valleystreamszen.org
SUMMARY:Retreat Night (Hybrid)
DESCRIPTION:On Retreat Night we offer an opportunity to settle into your meditation practice with two or three 25-minute periods of zazen\, interspersed with walking meditation (called kinhin). Turning the light inward we explore the causes of suffering and what can end it. This invitation is extended to everyone. \n*Zoom link for this program: https://us02web.zoom.us/j/82008151977
URL:https://valleystreamszen.org/event/monday-night-meditation-and-program-2022-06-20/
LOCATION:Sacramento Dharma Center\, Sacramento Dharma Center\, 3111 Wissemann Drive\, Sacramento\, CA\, 95826\, United States
CATEGORIES:All Events,Hybrid Event,Monday Night Meeting,Retreat Night
ORGANIZER;CN="Valley Streams Zen Sangha":MAILTO:info@valleystreamszen.org
END:VEVENT
BEGIN:VEVENT
DTSTART;TZID=America/Los_Angeles:20220626T100000
DTEND;TZID=America/Los_Angeles:20220626T120000
DTSTAMP:20260423T231117
CREATED:20220627T000000Z
LAST-MODIFIED:20230202T011723Z
UID:11801-1656237600-1656244800@valleystreamszen.org
SUMMARY:Family Sangha (In person)
DESCRIPTION:Family Sangha – Last Sunday of the Month 10:00am – 12:00 pm\n\n\nOne of the many dilemmas that parents face is how to hand down their spiritual values and practice to their children. We are fortunate that the Sacramento Dharma Center is now hosting a Family Sangha! Meeting on the last Sunday of the month from 10:00 am – 12:00 pm\, this is a great way for children\, parents\, grandparents\, aunts and uncles – the whole family – to learn about and further their dharma practice in a kid-oriented social setting. \nLike all sanghas\, this one operates on dana. This giving can take many forms. The facilitators tell us that this can include\, “helping a bit\, some funds to launch or a monthly contribution so FS could give a stipend to a facilitator\, helping with the admin\, doing art\, yoga\, mindfulness\, stories\, gardening\, with the kids\, all kinds of possibilities.” \nPrior to the pandemic\, Sacramento Buddhist Meditation Group (SBMG)\, one of our co-tenants at SDC\, operated this very popular sangha\, and we are very happy to see that it has returned\, and is now a “mahasangha” monthly event. \nPlease check the SDC event calendar\, or contact Helen Hobart at hdhobart@gmail.com for details.
URL:https://valleystreamszen.org/event/family-sangha-in-person/2022-06-26/
LOCATION:Sacramento Dharma Center\, Sacramento Dharma Center\, 3111 Wissemann Drive\, Sacramento\, CA\, 95826\, United States
CATEGORIES:All Events,Family Sangha,In-Person Event
END:VEVENT
BEGIN:VEVENT
DTSTART;TZID=America/Los_Angeles:20220627T190000
DTEND;TZID=America/Los_Angeles:20220627T210000
DTSTAMP:20260423T231117
CREATED:20220628T090000Z
LAST-MODIFIED:20220621T191252Z
UID:11145-1656356400-1656363600@valleystreamszen.org
SUMMARY:Dharma Talk "Letting life unfold in unpredictable ways from the mystery" by Paravrrti Doralee Grindler Katonah (Hybrid)
DESCRIPTION:Paravrrti Doralee Grindler Katonah will present a dharma talk “Letting life unfold in unpredictable ways from the mystery” in person at the Dharma Center.  She serves as Ino\, or head of the meditation hall. She studied in the Soto Zen lineage with Sojun Diane Martin\, founder and guiding teacher of Udumbara Zen Center in Illinois and Rev. Val Szymanski\, Head Priest of Bamboo in the Wind Zen Center in Sunnyvale\, California. She was priest ordained in 2019. \n*Zoom link for this program: https://us02web.zoom.us/j/82008151977
URL:https://valleystreamszen.org/event/monday-night-meditation-and-program-2022-06-27/
LOCATION:Sacramento Dharma Center\, Sacramento Dharma Center\, 3111 Wissemann Drive\, Sacramento\, CA\, 95826\, United States
CATEGORIES:All Events,Hybrid Event,Monday Night Meeting
ORGANIZER;CN="Valley Streams Zen Sangha":MAILTO:info@valleystreamszen.org
END:VEVENT
END:VCALENDAR