BEGIN:VCALENDAR
VERSION:2.0
PRODID:-//Valley Streams Zen Sangha - ECPv6.15.18//NONSGML v1.0//EN
CALSCALE:GREGORIAN
METHOD:PUBLISH
X-ORIGINAL-URL:https://valleystreamszen.org
X-WR-CALDESC:Events for Valley Streams Zen Sangha
REFRESH-INTERVAL;VALUE=DURATION:PT1H
X-Robots-Tag:noindex
X-PUBLISHED-TTL:PT1H
BEGIN:VTIMEZONE
TZID:America/Los_Angeles
BEGIN:DAYLIGHT
TZOFFSETFROM:-0800
TZOFFSETTO:-0700
TZNAME:PDT
DTSTART:20210314T100000
END:DAYLIGHT
BEGIN:STANDARD
TZOFFSETFROM:-0700
TZOFFSETTO:-0800
TZNAME:PST
DTSTART:20211107T090000
END:STANDARD
BEGIN:DAYLIGHT
TZOFFSETFROM:-0800
TZOFFSETTO:-0700
TZNAME:PDT
DTSTART:20220313T100000
END:DAYLIGHT
BEGIN:STANDARD
TZOFFSETFROM:-0700
TZOFFSETTO:-0800
TZNAME:PST
DTSTART:20221106T090000
END:STANDARD
BEGIN:DAYLIGHT
TZOFFSETFROM:-0800
TZOFFSETTO:-0700
TZNAME:PDT
DTSTART:20230312T100000
END:DAYLIGHT
BEGIN:STANDARD
TZOFFSETFROM:-0700
TZOFFSETTO:-0800
TZNAME:PST
DTSTART:20231105T090000
END:STANDARD
END:VTIMEZONE
BEGIN:VEVENT
DTSTART;TZID=America/Los_Angeles:20221201T060000
DTEND;TZID=America/Los_Angeles:20221201T073000
DTSTAMP:20260422T062545
CREATED:20221111T030538Z
LAST-MODIFIED:20221111T033654Z
UID:13295-1669874400-1669879800@valleystreamszen.org
SUMMARY:Rohatsu Sesshin Morning Program (Hybrid)
DESCRIPTION:Morning Rohatsu schedule\, Thursday hybrid event.\n6:00   Zazen\n6:30   Kinhin\n6:40   Zazen\n7:10   Service \nRegister for week-long program on Eventbrite.  See full Rohatsu schedule here. \nThis traditional week of intensified practice celebrates the enlightenment of our original teacher in India\, Shakyamuni Buddha. Rohatsu sesshin is a time for bringing light into the dark time of the year and for celebrating Buddha’s awakening\, which is our awakening too.
URL:https://valleystreamszen.org/event/rohatsu-sesshin-morning-program-hybrid/
LOCATION:Sacramento Dharma Center\, Sacramento Dharma Center\, 3111 Wissemann Drive\, Sacramento\, CA\, 95826\, United States
CATEGORIES:All Events,Hybrid Event,Sesshin
ORGANIZER;CN="Valley Streams Zen Sangha":MAILTO:info@valleystreamszen.org
END:VEVENT
BEGIN:VEVENT
DTSTART;TZID=America/Los_Angeles:20221202T083000
DTEND;TZID=America/Los_Angeles:20221202T210000
DTSTAMP:20260422T062545
CREATED:20221111T040232Z
LAST-MODIFIED:20221122T164404Z
UID:13320-1669969800-1670014800@valleystreamszen.org
SUMMARY:Rohatsu Sesshin Full Day Sitting (In-person)
DESCRIPTION:Full-Day Sitting – in person –  8:30 am – 8:45 pm\nThis sitting will be in person at the Dharma Center and will not be offered on Zoom.  Traditional oryoki meals will be served at noon and for the “medicine meal” in the evening. \nThis traditional week of intensified practice celebrates the enlightenment of our original teacher in India\, Shakyamuni Buddha. Rohatsu sesshin is a time for bringing light into the dark time of the year and for celebrating Buddha’s awakening\, which is our awakening too. This sesshin is a combination of in-person and online. It will last a full week\, but we’ll be sitting only morning and evening periods\, Sunday – Thursday.  Friday and Saturday we offer a full day of sitting in person at the Dharma Center.  We close out the week on Sunday\, Dec. 4\, with a half-day\, in-person program of zazen\, a Dharma talk\, and closing ceremony. \nSee Eventbrite to register. \n 
URL:https://valleystreamszen.org/event/rohatsu-sesshin-full-day-sitting-in-person/2022-12-02/
LOCATION:Sacramento Dharma Center\, Sacramento Dharma Center\, 3111 Wissemann Drive\, Sacramento\, CA\, 95826\, United States
CATEGORIES:All Events,In-Person Event,Sesshin
ORGANIZER;CN="Valley Streams Zen Sangha":MAILTO:info@valleystreamszen.org
END:VEVENT
BEGIN:VEVENT
DTSTART;TZID=America/Los_Angeles:20221204T083000
DTEND;TZID=America/Los_Angeles:20221204T120000
DTSTAMP:20260422T062545
CREATED:20221111T042446Z
LAST-MODIFIED:20221111T191610Z
UID:13329-1670142600-1670155200@valleystreamszen.org
SUMMARY:Rohatsu Sesshin Half-Day Sitting and Buddha's Enlightenment Ceremony (In-person)
DESCRIPTION:Half-day Sitting – in person – 8:30 am – 12 noon. \nToday concludes the seven days of intensive practice with a half-day sitting  and the  Buddha’s Enlightenment Ceremony. \nWe will gather after the ceremony to share a buffet lunch. \nRegister for the week-long program on Eventbrite.
URL:https://valleystreamszen.org/event/rohatsu-sesshin-half-day-sitting-and-buddhas-enlightenment-ceremony/
LOCATION:Sacramento Dharma Center\, Sacramento Dharma Center\, 3111 Wissemann Drive\, Sacramento\, CA\, 95826\, United States
CATEGORIES:All Events,In-Person Event,Sesshin
ORGANIZER;CN="Valley Streams Zen Sangha":MAILTO:info@valleystreamszen.org
END:VEVENT
BEGIN:VEVENT
DTSTART;TZID=America/Los_Angeles:20221205T190000
DTEND;TZID=America/Los_Angeles:20221205T210000
DTSTAMP:20260422T062545
CREATED:20221108T110000Z
LAST-MODIFIED:20230502T184952Z
UID:11955-1670266800-1670274000@valleystreamszen.org
SUMMARY:Full Moon Ceremony (Hybrid)
DESCRIPTION:The Full Moon Ceremony acknowledges the karma created by our intentional actions\, and reminds us to renew our commitment to the ethical conduct expressed as the 16 Bodhisattva Precepts. These are guiding principles for our daily conduct in the world. This ceremony is rooted in a ritual from pre-Buddhist India. Texts for the chants are distributed during the ceremony or available here:  *Full Moon Ceremony Chants \n\n\n\n\n\n\n\n\n\n\n\n\n\n\n\nTo prepare for the ceremony there are two 25 minutes meditation periods separated by 10 minutes of walking meditation.   All are welcome to participate. \n\n\n\n\n\n\n\n\n\n\n\n\n\n\n\n*Zoom link for this program: https://us02web.zoom.us/j/82008151977
URL:https://valleystreamszen.org/event/monday-night-meditation-and-program-2022-09-05-2022-11-07-2022-11-14-2022-12-05/
LOCATION:Sacramento Dharma Center\, Sacramento Dharma Center\, 3111 Wissemann Drive\, Sacramento\, CA\, 95826\, United States
CATEGORIES:All Events,Full Moon Ceremony,Hybrid Event,Online Event
ORGANIZER;CN="Valley Streams Zen Sangha":MAILTO:info@valleystreamszen.org
END:VEVENT
BEGIN:VEVENT
DTSTART;TZID=America/Los_Angeles:20221212T180000
DTEND;TZID=America/Los_Angeles:20221212T184000
DTSTAMP:20260422T062545
CREATED:20220412T080000Z
LAST-MODIFIED:20251106T195959Z
UID:11937-1670868000-1670870400@valleystreamszen.org
SUMMARY:Introduction to Zen Meditation (In Person Only)
DESCRIPTION:On the second Monday of each month\, we offer a 40-minute introduction to Zen practice.  We focus on the art of sitting meditation\, with emphasis on posture\, breath and mental focus. This is for new meditators and those wishing to refresh their practice of meditative immersion. \nFollowing the instruction the Valley Streams Zen Sangha meets for a 30-minute meditation in the Dharma Hall followed by a 10-minute service and Dharma talk. You are invited to stay for these events after the instruction.\n  * Meets in the Library at Sacramento Dharma Center.   \nSign up for Weekly Emails to receive current program information.
URL:https://valleystreamszen.org/event/introduction-to-zen-meditation-in-person-2022-03-14-2022-04-11-2022-12-12/2022-12-12/
LOCATION:Sacramento Dharma Center\, Sacramento Dharma Center\, 3111 Wissemann Drive\, Sacramento\, CA\, 95826\, United States
CATEGORIES:All Events,In-Person Event,Meditation Instruction
ORGANIZER;CN="Valley Streams Zen Sangha":MAILTO:info@valleystreamszen.org
END:VEVENT
BEGIN:VEVENT
DTSTART;TZID=America/Los_Angeles:20221212T190000
DTEND;TZID=America/Los_Angeles:20221212T210000
DTSTAMP:20260422T062545
CREATED:20221108T110000Z
LAST-MODIFIED:20221212T225734Z
UID:11956-1670871600-1670878800@valleystreamszen.org
SUMMARY:Dharma Talk by Susan Moon (Hybrid - teacher in person)
DESCRIPTION:Susan Moon is a writer\, editor\, and lay teacher in the Soto Zen tradition. She is the author of a number of books about Buddhism\, including the humor book The Life and Letters of Tofu Roshi and This Is Getting Old: Zen Thoughts on Aging with Humor and Dignity. For many years she was the editor of Turning Wheel\, the journal of socially engaged Buddhism. Her short stories and essays have been published widely. \nSue has been a Zen student since 1976\, practicing in the lineage of Suzuki Roshi at Berkeley Zen Center\, Tassajara Zen Mountain Monastery\, Green Gulch Farm\, and now with Zoketsu Norman Fischer’s Everyday Zen sangha. She received “entrustment” as a lay teacher in 2005. \n*Zoom link https://us02web.zoom.us/j/82008151977
URL:https://valleystreamszen.org/event/monday-night-meditation-and-program-2022-09-05-2022-11-07-2022-11-14-2022-12-12/
LOCATION:Sacramento Dharma Center\, Sacramento Dharma Center\, 3111 Wissemann Drive\, Sacramento\, CA\, 95826\, United States
CATEGORIES:All Events,Hybrid Event,Monday Night Meeting,Online Event
ORGANIZER;CN="Valley Streams Zen Sangha":MAILTO:info@valleystreamszen.org
END:VEVENT
BEGIN:VEVENT
DTSTART;TZID=America/Los_Angeles:20221219T190000
DTEND;TZID=America/Los_Angeles:20221219T210000
DTSTAMP:20260422T062545
CREATED:20221108T110000Z
LAST-MODIFIED:20221103T022642Z
UID:11957-1671476400-1671483600@valleystreamszen.org
SUMMARY:Winter Solstice Celebration (Hybrid)
DESCRIPTION:Celebrate the winter solstice with your sangha friends. \nAfter a 35 minute meditation and service\, we will gather to entertain each other on this long winter night with instruments\, song\, favorite poetry new and old\,  stories and skits.  Bring your creativity and share your hidden talents. \n*Zoom link for this program: https://us02web.zoom.us/j/82008.151977
URL:https://valleystreamszen.org/event/monday-night-meditation-and-program-2022-09-05-2022-11-07-2022-11-14-2022-12-19/
LOCATION:Sacramento Dharma Center\, Sacramento Dharma Center\, 3111 Wissemann Drive\, Sacramento\, CA\, 95826\, United States
CATEGORIES:All Events,Hybrid Event,Monday Night Meeting,Special Event
ORGANIZER;CN="Valley Streams Zen Sangha":MAILTO:info@valleystreamszen.org
END:VEVENT
BEGIN:VEVENT
DTSTART;TZID=America/Los_Angeles:20221226T190000
DTEND;TZID=America/Los_Angeles:20221226T210000
DTSTAMP:20260422T062545
CREATED:20221227T110000Z
LAST-MODIFIED:20230111T000930Z
UID:11958-1672081200-1672088400@valleystreamszen.org
SUMMARY:Relinquishment Ceremony with Rev. Parāvṛtti Doralee Grindler Katonah (Hybrid)
DESCRIPTION:Entering a New Year is an auspicious time to “commune with the source” and ask what specific mind habit or pattern is in the way of our enlightenment practice. “Relinquish” means to renounce or surrender something – to let go of your grip on something\, to give something up that is no longer needed\, to desist from a pattern\, to ask what is holding me back\, what am I afraid of\, and to bring compassion to something that is difficult to change. This is a question to sit with; to allow emptiness to offer a message. \nTonight we will create “Relinquishment Scrolls” with simple art supplies provided to express our Relinquishment Intentions for the year 2023.  People on zoom are invited to gather their own art supplies – paper\, crayons and pen. After the ceremony you may choose to place your scroll on your home altar or ‘burn’ it in the fire of letting go. \nREMEMBER – Letting go is a vast teaching. When we let go we lift our burdens; we open into this amazing interdependent field of being where possibilities for liberation are always arising. \nRev. Parāvrtti Doralee Grindler Katonah serves as Ino\, or head of the meditation hall. She studied in the Soto Zen lineage with Sojun Diane Martin in Illinois and Rev. Val Szymanski in California. She was priest ordained in 2019 by Sojun Diane Martin. \n*Zoom link for this program: https://us02web.zoom.us/j/82008151977
URL:https://valleystreamszen.org/event/monday-night-meditation-and-program-2022-09-05-2022-12-26/
LOCATION:Sacramento Dharma Center\, Sacramento Dharma Center\, 3111 Wissemann Drive\, Sacramento\, CA\, 95826\, United States
CATEGORIES:All Events,Hybrid Event,Monday Night Meeting
ORGANIZER;CN="Valley Streams Zen Sangha":MAILTO:info@valleystreamszen.org
END:VEVENT
END:VCALENDAR