BEGIN:VCALENDAR
VERSION:2.0
PRODID:-//Valley Streams Zen Sangha - ECPv6.15.18//NONSGML v1.0//EN
CALSCALE:GREGORIAN
METHOD:PUBLISH
X-WR-CALNAME:Valley Streams Zen Sangha
X-ORIGINAL-URL:https://valleystreamszen.org
X-WR-CALDESC:Events for Valley Streams Zen Sangha
REFRESH-INTERVAL;VALUE=DURATION:PT1H
X-Robots-Tag:noindex
X-PUBLISHED-TTL:PT1H
BEGIN:VTIMEZONE
TZID:America/Los_Angeles
BEGIN:DAYLIGHT
TZOFFSETFROM:-0800
TZOFFSETTO:-0700
TZNAME:PDT
DTSTART:20220313T100000
END:DAYLIGHT
BEGIN:STANDARD
TZOFFSETFROM:-0700
TZOFFSETTO:-0800
TZNAME:PST
DTSTART:20221106T090000
END:STANDARD
BEGIN:DAYLIGHT
TZOFFSETFROM:-0800
TZOFFSETTO:-0700
TZNAME:PDT
DTSTART:20230312T100000
END:DAYLIGHT
BEGIN:STANDARD
TZOFFSETFROM:-0700
TZOFFSETTO:-0800
TZNAME:PST
DTSTART:20231105T090000
END:STANDARD
BEGIN:DAYLIGHT
TZOFFSETFROM:-0800
TZOFFSETTO:-0700
TZNAME:PDT
DTSTART:20240310T100000
END:DAYLIGHT
BEGIN:STANDARD
TZOFFSETFROM:-0700
TZOFFSETTO:-0800
TZNAME:PST
DTSTART:20241103T090000
END:STANDARD
END:VTIMEZONE
BEGIN:VEVENT
DTSTART;TZID=America/Los_Angeles:20230204T083000
DTEND;TZID=America/Los_Angeles:20230204T163000
DTSTAMP:20260422T023644
CREATED:20230119T233732Z
LAST-MODIFIED:20230202T012221Z
UID:15661-1675499400-1675528200@valleystreamszen.org
SUMMARY:Hidden in the Moonlight: One-day sitting\,  led by Rev. So'on Jim Hare (In person)
DESCRIPTION:“Hiding a heron in the moonlight” is a line from the Song of the Jewel Mirror Samadhi\, a Zen poem written in 9th century China. The phrase (and the whole poem) describes the activity of a person practicing the Buddha Way\, merging the particular and the universal. This is the everyday and consequential affair of Zen practice. \nOur day will include sitting and walking meditation\, a Dharma talk and discussion period\, and silent bag lunch. Please bring your own lunch.   \nThis event is in-person.  Register on Eventbrite. \nIf you have questions about this retreat\, please contact the retreat leader\, So’on Jim Hare\, at info@valleystreamszen.org
URL:https://valleystreamszen.org/event/hidden-in-the-moonlight-one-day-sitting-led-by-rev-soon-jim-hare/
LOCATION:Sacramento Dharma Center\, Sacramento Dharma Center\, 3111 Wissemann Drive\, Sacramento\, CA\, 95826\, United States
CATEGORIES:All Events,In-Person Event,One-Day Sitting
ORGANIZER;CN="Valley Streams Zen Sangha":MAILTO:info@valleystreamszen.org
END:VEVENT
BEGIN:VEVENT
DTSTART;TZID=America/Los_Angeles:20230206T190000
DTEND;TZID=America/Los_Angeles:20230206T210000
DTSTAMP:20260422T023644
CREATED:20221221T193430Z
LAST-MODIFIED:20230217T183411Z
UID:13479-1675710000-1675717200@valleystreamszen.org
SUMMARY:Full Moon Ceremony (Hybrid)
DESCRIPTION:This ceremony is an affirmation of the vow to live for the benefit of all beings. In the Zen tradition we associate the full moon with the ideal of awakening. All are welcome. \n\nValley Streams Zen Sangha is dedicated to the study of Buddha’s teaching and the practice of meditation. We invite newcomers and experienced Zen students to join us. \n*Zoom link for this program: https://us02web.zoom.us/j/82008151977\nFull Moon Program Chant Card
URL:https://valleystreamszen.org/event/full-moon-ceremony-hybrid/
LOCATION:Sacramento Dharma Center\, Sacramento Dharma Center\, 3111 Wissemann Drive\, Sacramento\, CA\, 95826\, United States
CATEGORIES:All Events,Full Moon Ceremony,Hybrid Event
ORGANIZER;CN="Valley Streams Zen Sangha":MAILTO:info@valleystreamszen.org
END:VEVENT
BEGIN:VEVENT
DTSTART;TZID=America/Los_Angeles:20230209T163000
DTEND;TZID=America/Los_Angeles:20230209T180000
DTSTAMP:20260422T023644
CREATED:20230108T234310Z
LAST-MODIFIED:20230108T234310Z
UID:13924-1675960200-1675965600@valleystreamszen.org
SUMMARY:Anti-Racism in our Everyday Lives:  Reflections and Conversation (Online)
DESCRIPTION:This monthly group\, sponsored by Valley Streams\, is a continuation of  a White Supremacy\, White Privilege and the Dharma study group. We meet monthly the 2nd Thursday of the month from 4:30-6:00pm. \nDownload syllabus here:  White Privilege and the Dharma \nWe share the intention as bodhisattvas to learn how to live an anti-racist way of being both with ourselves and in the world. We each participate from our own place of practice with something we want to share about our learnings/growth/or self-inquiry during the month\, from a place of humility and commitment to learn from our actions. \n\n\nThis group is  open to new members who share this vision and have had some prior experience studying racism and white privilege. If you are interested in joining the group\, contact Doralee Grindler Katonah at grindkaton@icloud.com
URL:https://valleystreamszen.org/event/anti-racism-in-our-everyday-lives-reflections-and-conversation-online/2023-02-09/
LOCATION:Sacramento Dharma Center\, Sacramento Dharma Center\, 3111 Wissemann Drive\, Sacramento\, CA\, 95826\, United States
CATEGORIES:All Events,Anti-racism Study Group
ORGANIZER;CN="Valley Streams Zen Sangha":MAILTO:info@valleystreamszen.org
END:VEVENT
BEGIN:VEVENT
DTSTART;TZID=America/Los_Angeles:20230213T190000
DTEND;TZID=America/Los_Angeles:20230213T210000
DTSTAMP:20260422T023644
CREATED:20221221T195758Z
LAST-MODIFIED:20230131T180158Z
UID:13483-1676314800-1676322000@valleystreamszen.org
SUMMARY:Dharma Talk by Shōku Kathy Early (Speaker on Zoom)
DESCRIPTION:Guest teacher Shōku Kathy Early came to zen practice in 1994 through classes with Tenshin Reb Anderson at the Yoga Room in Berkeley while working as a semiconductor engineer in Silicon Valley.  She then practiced for several years with Keido Les Kaye at Kannon Do Zen Center in Mountain View\, after which she trained at San Francisco Zen Center for 16 years. She was priest ordained by Tenshin Anderson in 2005. Shōku also spent a year and a half in residence at Toshoji International Training Monastery\, in Okayama\, Japan\, including four angos (90 day training periods). \nOur Monday night programs begin with zazen (sitting meditation) followed by a devotional service and dharma talk\, group discussion\, practice circle or retreat night. There are no membership requirements to participate. We invite donations to support the room rental\, visits by teachers\, and other sangha activities. Valley Streams Zen Sangha is dedicated to the study of Buddha’s teaching and the practice of meditation. We invite newcomers and experienced Zen students to join us in-person or on zoom. \n*Zoom link for this program: https://us02web.zoom.us/j/82008151977
URL:https://valleystreamszen.org/event/dharma-talk-by-shoku-kathy-early-hybrid/
LOCATION:Sacramento Dharma Center\, Sacramento Dharma Center\, 3111 Wissemann Drive\, Sacramento\, CA\, 95826\, United States
CATEGORIES:All Events,Hybrid Event,Monday Night Meeting
ORGANIZER;CN="Valley Streams Zen Sangha":MAILTO:info@valleystreamszen.org
END:VEVENT
BEGIN:VEVENT
DTSTART;TZID=America/Los_Angeles:20230220T190000
DTEND;TZID=America/Los_Angeles:20230220T210000
DTSTAMP:20260422T023644
CREATED:20221221T200609Z
LAST-MODIFIED:20230206T042218Z
UID:13491-1676919600-1676926800@valleystreamszen.org
SUMMARY:Dharma Talk by Rev. So'on Jim Hare (Speaker in person)
DESCRIPTION:Rev. So’on Jim Hare  serves as Tanto\, or head of practice. He lived in the San Francisco Zen Center community from 1980 to 1984\, and was lay ordained by Tenshin Reb Anderson in 1985. He served as Head Student at Green Gulch Farm during the spring 2002 practice period\, and was priest ordained by Rev. Myo Lahey in 2016. \nOur Monday night programs begin with zazen (sitting meditation) followed by a devotional service and dharma talk\, group discussion\, practice circle or retreat night. There are no membership requirements to participate. We invite donations to support the room rental\, visits by teachers\, and other sangha activities. Valley Streams Zen Sangha is dedicated to the study of Buddha’s teaching and the practice of meditation. We invite newcomers and experienced Zen students to join us in the zendo or on zoom. \n*Zoom link for this program: https://us02web.zoom.us/j/82008151977
URL:https://valleystreamszen.org/event/dharma-talk-by-rev-soon-jim-hare-hybrid/
LOCATION:Sacramento Dharma Center\, Sacramento Dharma Center\, 3111 Wissemann Drive\, Sacramento\, CA\, 95826\, United States
CATEGORIES:All Events,Hybrid Event,Monday Night Meeting
ORGANIZER;CN="Valley Streams Zen Sangha":MAILTO:info@valleystreamszen.org
END:VEVENT
BEGIN:VEVENT
DTSTART;TZID=America/Los_Angeles:20230227T190000
DTEND;TZID=America/Los_Angeles:20230227T210000
DTSTAMP:20260422T023644
CREATED:20221221T201419Z
LAST-MODIFIED:20230131T175925Z
UID:13504-1677524400-1677531600@valleystreamszen.org
SUMMARY:Dharma Talk by Hoka Chris Fortin (Speaker on Zoom)
DESCRIPTION:This evening we welcome guest teacher\, Chris Fortin\, a Soto Zen teacher who began practicing Buddhism in 1976 while living at the San Francisco Zen Center. After many years of practice she received Dharma Transmission from Zoketsu Norman Fischer of Everyday Zen\, in the lineage of Shunryu Suzuki Roshi. \n\nChris founded Dharma Heart Zen to share the path of wholehearted living and awakening with others. She leads the Dharma Heart Zen Sangha in Cotati and the Woman’s Lotus Sangha in Sebastopol. She is a senior teacher in the Everyday Zen community and leads workshops at SFZC. She is guiding teacher of Sky Island Zen in Tucson\, Arizona and leads retreats in ancient Aravaipa Canyon.  She was the co- founder of Veterans PATH (formerly Honoring the Path of the Warrior)\, offering retreats and meditation and mindfulness practices for returning veterans. She offers Jizo Bodhisattva trainings and ceremonies for those who have lost children\, loved ones and those who are grieving the pain and suffering of the world.  Chris is actively engaged in the dharma of social and racial justice and the climate crisis. She co-leads a monthly Racial Literacy and Dharma Group and serves on the Soto Zen Buddhist Association’s Diversity Equity\, Inclusion\, & Accessibility (DEIA) Committee. \n\n*Zoom link for this program: https://us02web.zoom.us/j/82008151977
URL:https://valleystreamszen.org/event/dharma-talk-by-hoka-chris-fortin-hybrid/
LOCATION:Sacramento Dharma Center\, Sacramento Dharma Center\, 3111 Wissemann Drive\, Sacramento\, CA\, 95826\, United States
CATEGORIES:All Events,Hybrid Event,Monday Night Meeting
ORGANIZER;CN="Valley Streams Zen Sangha":MAILTO:info@valleystreamszen.org
END:VEVENT
END:VCALENDAR