BEGIN:VCALENDAR
VERSION:2.0
PRODID:-//Valley Streams Zen Sangha - ECPv6.15.18//NONSGML v1.0//EN
CALSCALE:GREGORIAN
METHOD:PUBLISH
X-WR-CALNAME:Valley Streams Zen Sangha
X-ORIGINAL-URL:https://valleystreamszen.org
X-WR-CALDESC:Events for Valley Streams Zen Sangha
REFRESH-INTERVAL;VALUE=DURATION:PT1H
X-Robots-Tag:noindex
X-PUBLISHED-TTL:PT1H
BEGIN:VTIMEZONE
TZID:America/Los_Angeles
BEGIN:DAYLIGHT
TZOFFSETFROM:-0800
TZOFFSETTO:-0700
TZNAME:PDT
DTSTART:20220313T100000
END:DAYLIGHT
BEGIN:STANDARD
TZOFFSETFROM:-0700
TZOFFSETTO:-0800
TZNAME:PST
DTSTART:20221106T090000
END:STANDARD
BEGIN:DAYLIGHT
TZOFFSETFROM:-0800
TZOFFSETTO:-0700
TZNAME:PDT
DTSTART:20230312T100000
END:DAYLIGHT
BEGIN:STANDARD
TZOFFSETFROM:-0700
TZOFFSETTO:-0800
TZNAME:PST
DTSTART:20231105T090000
END:STANDARD
BEGIN:DAYLIGHT
TZOFFSETFROM:-0800
TZOFFSETTO:-0700
TZNAME:PDT
DTSTART:20240310T100000
END:DAYLIGHT
BEGIN:STANDARD
TZOFFSETFROM:-0700
TZOFFSETTO:-0800
TZNAME:PST
DTSTART:20241103T090000
END:STANDARD
END:VTIMEZONE
BEGIN:VEVENT
DTSTART;TZID=America/Los_Angeles:20230304T083000
DTEND;TZID=America/Los_Angeles:20230304T123000
DTSTAMP:20260421T224845
CREATED:20230122T211926Z
LAST-MODIFIED:20230217T235354Z
UID:15675-1677918600-1677933000@valleystreamszen.org
SUMMARY:Half-Day Sitting led by Rev. Parāvṛtti Doralee Grindler Katonah (In person)
DESCRIPTION:“Communing with the Source\, travel the pathways\, embrace the territory\, and treasure the road.”\nSong of the Jewel Mirror Samadhi \n Whether sitting\, walk\, sitting\, standing\, or lying down we open wholeheartedly to the Way and Buddha activity happens on its own. Come\, sit\, and walk together to support each other in continuous practice.  The retreat includes periods of zazen (sitting meditation)\,  kinhin (walking meditation)\, and a dharma talk with a social lunch to follow.  Bring your own bag lunch. Hot water and tea are available. \nRegister on Eventbrite. \nFor more information contact us at info@valleystreamszen.org.  If you have limited or no experience in sitting meditation\, please email the teacher at grindkaton@ icloud.com \nRev. Parāvṛtti Doralee Grindler Katonah serves as Ino\, or head of the meditation hall at Valley Streams Zen Sangha. She studies in the Soto Zen lineage with Sojun Diane Martin\, founder and guiding teacher of Udumbara Zen Center in Illinois and Rev. Val Szymanski\, Head Priest of Bamboo in the Wind Zen Sangha in California. She was lay ordained in 2008 and priest ordained in 2019. She served as head student for the Spring practice period at Bamboo in the Wind Zen Sangha in  May 2022.
URL:https://valleystreamszen.org/event/half-day-sitting/
LOCATION:Sacramento Dharma Center\, Sacramento Dharma Center\, 3111 Wissemann Drive\, Sacramento\, CA\, 95826\, United States
CATEGORIES:All Events,Half-Day Sitting,In-Person Event
ORGANIZER;CN="Valley Streams Zen Sangha":MAILTO:info@valleystreamszen.org
END:VEVENT
BEGIN:VEVENT
DTSTART;TZID=America/Los_Angeles:20230304T133000
DTEND;TZID=America/Los_Angeles:20230304T150000
DTSTAMP:20260421T224845
CREATED:20230110T183750Z
LAST-MODIFIED:20230202T012036Z
UID:13942-1677936600-1677942000@valleystreamszen.org
SUMMARY:Dōan-ryo Rehearsal (In person)
DESCRIPTION:Dōan-ryo are the group of people who serve the sangha in temple roles including the dōan\, the fukudo\, the chiden\, the jiko\, and the kokyo.  They meet bi-monthly after the Saturday half-day sit to rehearse for upcoming ceremonies.
URL:https://valleystreamszen.org/event/doan-ryo-rehearsal-in-person/2023-03-04/
LOCATION:Sacramento Dharma Center\, Sacramento Dharma Center\, 3111 Wissemann Drive\, Sacramento\, CA\, 95826\, United States
CATEGORIES:Rehearsal or Event Setup
ORGANIZER;CN="Valley Streams Zen Sangha":MAILTO:info@valleystreamszen.org
END:VEVENT
BEGIN:VEVENT
DTSTART;TZID=America/Los_Angeles:20230306T190000
DTEND;TZID=America/Los_Angeles:20230306T210000
DTSTAMP:20260421T224845
CREATED:20221122T005545Z
LAST-MODIFIED:20230131T175843Z
UID:13399-1678129200-1678136400@valleystreamszen.org
SUMMARY:Dharma Talk by Rev. Myō Lahey (Speaker on Zoom)
DESCRIPTION:Rev. Myō Lahey\, Valley Streams’ guiding teacher\,  joins us online via Zoom from Hartford Street Zen Center in San Francisco\, where he is Abbot.  He previously served as Practice Leader at Tassajara Zen Mountain Center. He is a Dharma heir of Tenshin Reb Anderson. \nOur Monday night programs are hybrid beginning  with zazen (sitting meditation) followed by a devotional service and dharma talk\, group discussion\, practice circle or retreat night. There are no membership requirements to participate. We invite donations to support the room rental\, visits by teachers\, and other sangha activities. Valley Streams Zen Sangha is dedicated to the study of Buddha’s teaching and the practice of meditation. We invite newcomers and experienced Zen students to join us. \n*Zoom link for this program: https://us02web.zoom.us/j/82008151977
URL:https://valleystreamszen.org/event/dharma-talk-by-rev-myo-lahey-hybrid/
LOCATION:Sacramento Dharma Center\, Sacramento Dharma Center\, 3111 Wissemann Drive\, Sacramento\, CA\, 95826\, United States
CATEGORIES:All Events,Hybrid Event,Monday Night Meeting
ORGANIZER;CN="Valley Streams Zen Sangha":MAILTO:info@valleystreamszen.org
END:VEVENT
BEGIN:VEVENT
DTSTART;TZID=America/Los_Angeles:20230313T080000
DTEND;TZID=America/Los_Angeles:20230313T210000
DTSTAMP:20260421T224845
CREATED:20230128T003528Z
LAST-MODIFIED:20230202T011858Z
UID:15702-1678694400-1678741200@valleystreamszen.org
SUMMARY:Way-Seeking Mind Talk with Jody Ansell (Speaker in person)
DESCRIPTION:Jody Ansell started meditating in 2008 with One Drop Rinzai Zen’s Water Moon Sangha. She has been sitting with Valley Streams since 2014. She is retired\, a hiking and biking enthusiast\,  and a poet.  Jody serves on the Valley Streams Board of Directors. \nEach of us has come to Zen practice as a seeker\, with a spirit of inquiry\, from diverse backgrounds. The idea of our way-seeking mind talks is for members to share how it is they came to practice. Each person tells his or her own story in a unique way that often blends autobiography\, spiritual biography\, and the practice questions engaging each person. \n  \n*Zoom link for this program: https://us02web.zoom.us/j/82008151977
URL:https://valleystreamszen.org/event/way-seeking-mind-talk-with-jody-ansell-speaker-in-person/
LOCATION:Sacramento Dharma Center\, Sacramento Dharma Center\, 3111 Wissemann Drive\, Sacramento\, CA\, 95826\, United States
CATEGORIES:All Events,Hybrid Event,Monday Night Meeting
ORGANIZER;CN="Valley Streams Zen Sangha":MAILTO:info@valleystreamszen.org
END:VEVENT
BEGIN:VEVENT
DTSTART;TZID=America/Los_Angeles:20230320T190000
DTEND;TZID=America/Los_Angeles:20230320T210000
DTSTAMP:20260421T224845
CREATED:20230122T212709Z
LAST-MODIFIED:20230317T211705Z
UID:15682-1679338800-1679346000@valleystreamszen.org
SUMMARY:Dharma Talk with Rev. So'on Jim Hare (Speaker In-person)
DESCRIPTION:Rev. So’on Jim Hare  serves as Tanto\, or head of practice. He lived in the San Francisco Zen Center community from 1980 to 1984\, and was lay ordained by Tenshin Reb Anderson in 1985. He served as Head Student at Green Gulch Farm during the spring 2002 practice period\, and was priest ordained by Rev. Myo Lahey in 2016.\n \nOur Monday night programs begin with zazen (sitting meditation) followed by a devotional service and dharma talk\, group discussion\, practice circle or retreat night. There are no membership requirements to participate. We invite donations to support the room rental\, visits by teachers\, and other sangha activities. Valley Streams Zen Sangha is dedicated to the study of Buddha’s teaching and the practice of meditation. We invite newcomers and experienced Zen students to join us. \n*Zoom link for this program: https://us02web.zoom.us/j/82008151977
URL:https://valleystreamszen.org/event/dharma-talk-with-rev-soon-jim-hare/
LOCATION:Sacramento Dharma Center\, Sacramento Dharma Center\, 3111 Wissemann Drive\, Sacramento\, CA\, 95826\, United States
CATEGORIES:All Events,Hybrid Event,Monday Night Meeting
ORGANIZER;CN="Valley Streams Zen Sangha":MAILTO:info@valleystreamszen.org
END:VEVENT
BEGIN:VEVENT
DTSTART;TZID=America/Los_Angeles:20230327T190000
DTEND;TZID=America/Los_Angeles:20230327T210000
DTSTAMP:20260421T224845
CREATED:20230122T213448Z
LAST-MODIFIED:20230202T011706Z
UID:15692-1679943600-1679950800@valleystreamszen.org
SUMMARY:Dharma Talk with Rev. Mary Mocine (Speaker In person)
DESCRIPTION:Joining us this evening is Reverend Mary Mocine\, abbess of Clear Water Zendo in Vallejo. She was trained at San Francisco and Berkeley Zen Centers\, and Tassajara Zen Monastery. She was ordained in 1994 by Sojun Mel Weitsman\, former Abbot of San Francisco Zen Center and continuing Abbot of the Berkeley Zen Center. Reverend Mocine has also trained with Abbess Zenkei Blanche Hartman and former Abbots Zoketsu Norman Fischer and Tenshin Reb Anderson of the San Francisco Zen Center. She received dharma transmission from Sojun Mel Weitsman in May 2005. \nOur Monday night programs begin with zazen (sitting meditation) followed by a devotional service and dharma talk\, group discussion\, practice circle or retreat night. There are no membership requirements to participate. We invite donations to support the room rental\, visits by teachers\, and other sangha activities. Valley Streams Zen Sangha is dedicated to the study of Buddha’s teaching and the practice of meditation. We invite newcomers and experienced Zen students to join us on the zendo or online. \n*Zoom link for this program: https://us02web.zoom.us/j/82008151977
URL:https://valleystreamszen.org/event/dharma-talk-with-rev-mary-mocine-hybrid/
LOCATION:Sacramento Dharma Center\, Sacramento Dharma Center\, 3111 Wissemann Drive\, Sacramento\, CA\, 95826\, United States
CATEGORIES:All Events,Hybrid Event,Monday Night Meeting
ORGANIZER;CN="Valley Streams Zen Sangha":MAILTO:info@valleystreamszen.org
END:VEVENT
END:VCALENDAR