BEGIN:VCALENDAR
VERSION:2.0
PRODID:-//Valley Streams Zen Sangha - ECPv6.15.18//NONSGML v1.0//EN
CALSCALE:GREGORIAN
METHOD:PUBLISH
X-ORIGINAL-URL:https://valleystreamszen.org
X-WR-CALDESC:Events for Valley Streams Zen Sangha
REFRESH-INTERVAL;VALUE=DURATION:PT1H
X-Robots-Tag:noindex
X-PUBLISHED-TTL:PT1H
BEGIN:VTIMEZONE
TZID:America/Los_Angeles
BEGIN:DAYLIGHT
TZOFFSETFROM:-0800
TZOFFSETTO:-0700
TZNAME:PDT
DTSTART:20220313T100000
END:DAYLIGHT
BEGIN:STANDARD
TZOFFSETFROM:-0700
TZOFFSETTO:-0800
TZNAME:PST
DTSTART:20221106T090000
END:STANDARD
BEGIN:DAYLIGHT
TZOFFSETFROM:-0800
TZOFFSETTO:-0700
TZNAME:PDT
DTSTART:20230312T100000
END:DAYLIGHT
BEGIN:STANDARD
TZOFFSETFROM:-0700
TZOFFSETTO:-0800
TZNAME:PST
DTSTART:20231105T090000
END:STANDARD
BEGIN:DAYLIGHT
TZOFFSETFROM:-0800
TZOFFSETTO:-0700
TZNAME:PDT
DTSTART:20240310T100000
END:DAYLIGHT
BEGIN:STANDARD
TZOFFSETFROM:-0700
TZOFFSETTO:-0800
TZNAME:PST
DTSTART:20241103T090000
END:STANDARD
END:VTIMEZONE
BEGIN:VEVENT
DTSTART;TZID=America/Los_Angeles:20231201T083000
DTEND;TZID=America/Los_Angeles:20231201T204500
DTSTAMP:20260420T204222
CREATED:20231108T230930Z
LAST-MODIFIED:20231118T011123Z
UID:17127-1701419400-1701463500@valleystreamszen.org
SUMMARY:Rohatsu Sesshin Full Day Sitting (In Person)
DESCRIPTION:Full-Day Sitting – In Person – 8:30 am – 8:45 pm\nThis sitting will be in person at the Dharma Center and will not be offered on Zoom. Traditional oryoki meals will be served at noon and for the “medicine meal” in the evening. \nRegister for week-long program on Eventbrite \nFull 7-Day Rohatsu Schedule \nThis traditional week of intensified practice celebrates the enlightenment of our original teacher in India\, Shakyamuni Buddha. Rohatsu sesshin is a time for bringing light into the dark time of the year and for celebrating Buddha’s awakening\, which is our awakening too. This sesshin is a combination of in-person and online. It will last a full week\, but we’ll be sitting only morning and evening periods\, Sunday – Thursday. Friday and Saturday we offer a full day of sitting in person at the Dharma Center. We close out the week on Sunday\, Dec. 4\, with a half-day\, in-person program of zazen\, a Dharma talk\, and closing ceremony \n 
URL:https://valleystreamszen.org/event/rohatsu-sesshin-full-day-sitting-in-person-2/2023-12-01/
LOCATION:Sacramento Dharma Center\, Sacramento Dharma Center\, 3111 Wissemann Drive\, Sacramento\, CA\, 95826\, United States
CATEGORIES:All Events,In-Person Event,Retreat,Sesshin
ORGANIZER;CN="Valley Streams Zen Sangha":MAILTO:info@valleystreamszen.org
END:VEVENT
BEGIN:VEVENT
DTSTART;TZID=America/Los_Angeles:20231203T083000
DTEND;TZID=America/Los_Angeles:20231203T120000
DTSTAMP:20260420T204222
CREATED:20231108T230957Z
LAST-MODIFIED:20231118T010502Z
UID:17139-1701592200-1701604800@valleystreamszen.org
SUMMARY:Rohatsu Sesshin Half-Day Sitting and Buddha’s Enlightenment Ceremony (In Person)
DESCRIPTION:Half-day Sitting – in person – 8:30 am – 12 noon. \nToday concludes the seven days of intensive practice with a half-day sitting and the Buddha’s Enlightenment Ceremony. \nWe will gather after the ceremony to share a buffet lunch. \nRegister for week-long program on Eventbrite \nFull 7-Day Rohatsu Schedule \nThis traditional week of intensified practice celebrates the enlightenment of our original teacher in India\, Shakyamuni Buddha. Rohatsu sesshin is a time for bringing light into the dark time of the year and for celebrating Buddha’s awakening\, which is our awakening too.
URL:https://valleystreamszen.org/event/rohatsu-sesshin-half-day-sitting-and-buddhas-enlightenment-ceremony-in-person/
LOCATION:Sacramento Dharma Center\, Sacramento Dharma Center\, 3111 Wissemann Drive\, Sacramento\, CA\, 95826\, United States
CATEGORIES:All Events,In-Person Event,Retreat,Sesshin
ORGANIZER;CN="Valley Streams Zen Sangha":MAILTO:info@valleystreamszen.org
END:VEVENT
BEGIN:VEVENT
DTSTART;TZID=America/Los_Angeles:20231204T190000
DTEND;TZID=America/Los_Angeles:20231204T210000
DTSTAMP:20260420T204222
CREATED:20231101T005457Z
LAST-MODIFIED:20231130T154541Z
UID:16813-1701716400-1701723600@valleystreamszen.org
SUMMARY:Practice Circle guided by Rev. Parāvṛtti Doralee Grindler Katonah (Speaker in Person)
DESCRIPTION:DRINKING FROM THE WELL-SPRING OF LIFE\nWHERE SUFFERING AND ENLIGHTENMENT MEET  \nCome participate in the Practice Circle and listen to and share ways in which your Practice Life offers self-care and well-being for living fully in this ‘world on fire’. \nRev. Parāvṛtti Doralee Grindler Katonah serves as Ino\, or head of the meditation hall. She studied in the Soto Zen lineage with Sojun Diane Martin\, founder and guiding teacher of Udumbara Zen Center in Illinois and Rev. Val Szymanski\, Head Priest of Bamboo in the Wind Zen Center in Sunnyvale\, California. She was lay ordained in 2008 and priest ordained in 2019. She served as head student for the Spring practice period at Bamboo in the Wind Zen Sangha in May 2022. She offers Practice Interviews upon request. \nOur Monday night programs begin with zazen (sitting meditation) followed by a devotional service and dharma talk\, group discussion\, practice circle or retreat night. There are no membership requirements to participate. We invite donations to support the room rental\, visits by teachers\, and other sangha activities. Valley Streams Zen Sangha is dedicated to the study of Buddha’s teaching and the practice of meditation. We invite newcomers and experienced Zen students to join us. \n*Chant for all beings\n*Zoom link to program
URL:https://valleystreamszen.org/event/practice-circle-by-rev-parav%e1%b9%9btti-doralee-grindler-katonah-speaker-in-person/
LOCATION:Sacramento Dharma Center\, Sacramento Dharma Center\, 3111 Wissemann Drive\, Sacramento\, CA\, 95826\, United States
CATEGORIES:All Events,Hybrid Event,Monday Night Meeting
ORGANIZER;CN="Valley Streams Zen Sangha":MAILTO:info@valleystreamszen.org
END:VEVENT
BEGIN:VEVENT
DTSTART;TZID=America/Los_Angeles:20231211T190000
DTEND;TZID=America/Los_Angeles:20231211T210000
DTSTAMP:20260420T204222
CREATED:20231101T010052Z
LAST-MODIFIED:20231121T011948Z
UID:16815-1702321200-1702328400@valleystreamszen.org
SUMMARY:Dharma Talk by Ryuko Laura Burges (Speaker on Zoom)
DESCRIPTION:Ryuko Laura Burges\, a lay entrusted dharma teacher in the Soto Zen tradition\, teaches classes\, lectures\, and leads retreats in Northern California. She received monastic training at Tassajara Zen Mountain Center and is in long-term recovery. Laura co-founded the Sangha in Recovery Program at the San Francisco Zen Center and is the abiding teacher at Lenox House Meditation Group in Oakland. Shambhala Publications offers her Buddhist children’s books\, Buddhist Stories for Kids and Zen for Kids. Her most recent book from Shambhala is The Zen Way of Recovery: An Illuminated Path Out of the Darkness of Addiction. Laura lives in San Francisco. \nLaura Burges has recently published a new book\, The Zen Way of Recovery\, which reflects her long experience working with people in recovery. In her Dharma talk at Valley Streams she will offer a teaching based on this line from the Hokyo Zanmai\, the Song of the Jewel Mirror Samadhi: “When erroneous imaginations cease\, the acquiescent mind realizes itself.” She writes: “When we loosen the grip of our self-created suffering\, our flowing\, flexible\, Big Mind is able to shine forth. Perhaps our most pervasive erroneous imagination is\, ‘I am alone\, a stranded individual in my own tiny boat.’ Actually\, we are deeply connected to all things and all beings.” \n*Zoom link to program \nOur Monday night programs begin with zazen (sitting meditation) followed by a devotional service and dharma talk\, group discussion\, or practice circle. There are no membership requirements to participate. We invite donations to support the room rental\, visits by teachers\, and other sangha activities. Valley Streams Zen Sangha is dedicated to the study of Buddha’s teaching and the practice of meditation. We invite newcomers and experienced Zen students to join us. If this is your first visit please arrive at least 15 minutes early for a brief orientation.
URL:https://valleystreamszen.org/event/dharma-talk-by-ryuko-laura-burges-hybrid/
LOCATION:Sacramento Dharma Center\, Sacramento Dharma Center\, 3111 Wissemann Drive\, Sacramento\, CA\, 95826\, United States
CATEGORIES:All Events,Hybrid Event,Monday Night Meeting
ORGANIZER;CN="Valley Streams Zen Sangha":MAILTO:info@valleystreamszen.org
END:VEVENT
BEGIN:VEVENT
DTSTART;TZID=America/Los_Angeles:20231218T190000
DTEND;TZID=America/Los_Angeles:20231218T210000
DTSTAMP:20260420T204222
CREATED:20231101T010815Z
LAST-MODIFIED:20231215T004210Z
UID:16818-1702926000-1702933200@valleystreamszen.org
SUMMARY:Winter Solstice Celebration (Hybrid)
DESCRIPTION:Celebrate the winter solstice with sangha friends. \nAfter a 35-minute meditation and service\, we will gather to entertain each other on this long winter night with instruments\, song\, favorite poetry new and old\, stories and skits. Bring your creativity and share your hidden talents. Bring a treat to share after the entertainment. \nWe offer a Well-Being Ceremony on the third Monday of every month to remember friends\, family\, neighbors\, pets and people of the world who are ill\, facing a recent loss\, or struggling with some difficulty in their lives. Please send the names of those you wish to be remembered to: Parāvrtti Doralee Grindler Katonah (Ino@valleystreamszen.org) by the Sunday evening prior. \nZoom link to program \nOur Monday night programs begin with zazen (sitting meditation) followed by a devotional service and dharma talk\, group discussion\, or practice circle. There are no membership requirements to participate. We invite donations to support the room rental\, visits by teachers\, and other sangha activities. Valley Streams Zen Sangha is dedicated to the study of Buddha’s teaching and the practice of meditation. We invite newcomers and experienced Zen students to join us. If this is your first visit please arrive at least 15 minutes early for a brief orientation. \n 
URL:https://valleystreamszen.org/event/winter-solstice-celebration-hybrid-2/
LOCATION:Sacramento Dharma Center\, Sacramento Dharma Center\, 3111 Wissemann Drive\, Sacramento\, CA\, 95826\, United States
CATEGORIES:All Events,Hybrid Event,Monday Night Meeting,Special Event,Well-being Ceremony
ORGANIZER;CN="Valley Streams Zen Sangha":MAILTO:info@valleystreamszen.org
END:VEVENT
BEGIN:VEVENT
DTSTART;VALUE=DATE:20231225
DTEND;VALUE=DATE:20231226
DTSTAMP:20260420T204222
CREATED:20231101T010645Z
LAST-MODIFIED:20231124T190806Z
UID:16821-1703462400-1703548799@valleystreamszen.org
SUMMARY:CLOSED - Christmas Holiday
DESCRIPTION:
URL:https://valleystreamszen.org/event/closed-christmas-holiday/
LOCATION:Sacramento Dharma Center\, Sacramento Dharma Center\, 3111 Wissemann Drive\, Sacramento\, CA\, 95826\, United States
CATEGORIES:All Events,CLOSED
ORGANIZER;CN="Valley Streams Zen Sangha":MAILTO:info@valleystreamszen.org
END:VEVENT
BEGIN:VEVENT
DTSTART;TZID=America/Los_Angeles:20231231T190000
DTEND;TZID=America/Los_Angeles:20231231T213000
DTSTAMP:20260420T204222
CREATED:20231208T192856Z
LAST-MODIFIED:20231214T202906Z
UID:17364-1704049200-1704058200@valleystreamszen.org
SUMMARY:Welcoming the New Year (In Person)
DESCRIPTION:On Sunday evening December 31st\, we will welcome the New Year at the Dharma Center with a silent sitting\,  walking meditation\, and the traditional ringing of 108 bells. We hope to debut a new Densho bell of unknown provenance\, acquired from Japan. The sitting will be from 7 to 9 p.m.\, followed by a quiet celebration with mock sake and treats. Since Valley Streams Sangha will be closed on Christmas Day and New Year’s Day (both Mondays)\, this will be an opportunity for communal practice during the holidays. This sitting will be open to everyone\, with a special invitation to those who regularly practice with other sanghas at the Dharma Center and elsewhere. \nRegister on Eventbrite
URL:https://valleystreamszen.org/event/welcoming-the-new-year-in-person/
LOCATION:Sacramento Dharma Center\, Sacramento Dharma Center\, 3111 Wissemann Drive\, Sacramento\, CA\, 95826\, United States
CATEGORIES:All Events,In-Person Event,Special Event
ORGANIZER;CN="Valley Streams Zen Sangha":MAILTO:info@valleystreamszen.org
END:VEVENT
END:VCALENDAR